BEGIN:VCALENDAR
VERSION:2.0
PRODID:-//I Am Here - ECPv6.15.18//NONSGML v1.0//EN
CALSCALE:GREGORIAN
METHOD:PUBLISH
X-WR-CALNAME:I Am Here
X-ORIGINAL-URL:https://iamheretribe.com
X-WR-CALDESC:Events for I Am Here
REFRESH-INTERVAL;VALUE=DURATION:PT1H
X-Robots-Tag:noindex
X-PUBLISHED-TTL:PT1H
BEGIN:VTIMEZONE
TZID:Australia/Sydney
BEGIN:STANDARD
TZOFFSETFROM:+1100
TZOFFSETTO:+1000
TZNAME:AEST
DTSTART:20230401T160000
END:STANDARD
BEGIN:DAYLIGHT
TZOFFSETFROM:+1000
TZOFFSETTO:+1100
TZNAME:AEDT
DTSTART:20230930T160000
END:DAYLIGHT
BEGIN:STANDARD
TZOFFSETFROM:+1100
TZOFFSETTO:+1000
TZNAME:AEST
DTSTART:20240406T160000
END:STANDARD
BEGIN:DAYLIGHT
TZOFFSETFROM:+1000
TZOFFSETTO:+1100
TZNAME:AEDT
DTSTART:20241005T160000
END:DAYLIGHT
BEGIN:STANDARD
TZOFFSETFROM:+1100
TZOFFSETTO:+1000
TZNAME:AEST
DTSTART:20250405T160000
END:STANDARD
BEGIN:DAYLIGHT
TZOFFSETFROM:+1000
TZOFFSETTO:+1100
TZNAME:AEDT
DTSTART:20251004T160000
END:DAYLIGHT
BEGIN:STANDARD
TZOFFSETFROM:+1100
TZOFFSETTO:+1000
TZNAME:AEST
DTSTART:20260404T160000
END:STANDARD
BEGIN:DAYLIGHT
TZOFFSETFROM:+1000
TZOFFSETTO:+1100
TZNAME:AEDT
DTSTART:20261003T160000
END:DAYLIGHT
END:VTIMEZONE
BEGIN:VEVENT
DTSTART;TZID=Australia/Sydney:20250610T130000
DTEND;TZID=Australia/Sydney:20250610T140000
DTSTAMP:20260422T173146
CREATED:20250514T095026Z
LAST-MODIFIED:20250530T002742Z
UID:10001248-1749560400-1749564000@iamheretribe.com
SUMMARY:ANZ: I Am Here Connect Webinar: Thriving Together - Supporting Men’s Mental Health and Wellbeing
DESCRIPTION:Join us this Men’s Health Week for Thriving Together: Supporting Men’s Mental Health and Wellbeing — an engaging conversation open to all. Discover how men can thrive while meeting life’s demands and how we can all play a role in their journey. Leave with tools to support both your wellbeing and that of the men around you.   \nKey Topics:  \n\nNavigating societal and workplace expectations \n\n\nEmbracing vulnerability as a source of strength  \n\n\nPractical\, everyday tools to support mental health and wellbeing \n\n\nHow to foster a more open\, supportive culture at work and beyond \n\nGuest Speakers  \nDavid Eccles   \nDavid is the co-founder of WNOW (When No One’s Watching)\, a men’s health movement with over 40 chapters across six countries\, involving 3\,000 men in weekly programs. His work in this space emphasises the importance of mental and physical well-being\, of promoting meaningful connections and of bringing back mateship.  \nAndrew McMahon  \nAndrew is a compassionate and community-driven professional who has spent the past decade at the forefront of mental health and suicide prevention in Australia. Andrew founded MATES in Mining – a suicide prevention initiative built on the power of mateship and peer support. He then went on to lead national projects with Everymind.  \n  \nWhat You Will Gain:  \n\nFresh insights into men’s mental health and wellbeing \n\n\nPractical strategies you can apply in everyday life \n\n\nConfidence to better support the men around you \n\n\nTools to foster a workplace where openness\, support and connection thrive  \n\n  \nDon’t miss this opportunity join a meaningful conversation and to walk away with practical tools to strengthen mental health and wellbeing — for yourself\, your colleagues\, and the men in your life. 
URL:https://iamheretribe.com/event/anz-i-am-here-connect-webinar-thriving-together-supporting-mens-mental-health-and-wellbeing/
LOCATION:Virtual Class: AEST
CATEGORIES:Upcoming Events
ATTACH;FMTTYPE=image/webp:https://iamheretribe.com/wp-content/uploads/2025/05/header_image_ANZ-1.webp
END:VEVENT
BEGIN:VEVENT
DTSTART;TZID=Australia/Sydney:20250415T130000
DTEND;TZID=Australia/Sydney:20250415T140000
DTSTAMP:20260422T173146
CREATED:20250314T015104Z
LAST-MODIFIED:20250331T221351Z
UID:10001247-1744722000-1744725600@iamheretribe.com
SUMMARY:ANZ: Ambassador Check-In and Skill Development: How to Remain a Signpost towards Help and Support
DESCRIPTION:Ambassador Check-in and Skill Development: How to Remain as a Signpost to Help and Support \nThis Ambassador check-in session is designed to reconnect you with the I Am Here belief and strengthen your role as a signpost to help and support. \nIn this interactive class\, you will: \n\nReflect on your experiences as an Ambassador and refresh your confidence in using the CLEAR Skills—Compassion\, Listening\, Empathy\, Acceptance\, and being Real.\nExplore strategies to remain a strong and consistent source of support while maintaining your own wellbeing.\nGain deeper insights into the evolving landscape of help and support resources\, ensuring you’re always equipped to guide others effectively.\nReaffirm your role in championing a culture of care and connection within your community or workplace.\n\nThis session is not only an opportunity to check in with yourself and your fellow Ambassadors but also to enhance the meaningful impact you’re already making. It’s about staying inspired\, informed\, and confident in your ability to support those around you while prioritising your own wellbeing. \nJoin us to continue your journey as an Ambassador\, ensuring you remain a powerful signpost to help and support when it matters most.
URL:https://iamheretribe.com/event/anz-ambassador-check-in-and-skill-development-how-to-remain-as-a-signpost-to-help-and-support/
LOCATION:Virtual Class: AEST
CATEGORIES:Upcoming Events
ATTACH;FMTTYPE=image/jpeg:https://iamheretribe.com/wp-content/uploads/2025/03/Ambassador-Check-in.jpg
END:VEVENT
BEGIN:VEVENT
DTSTART;TZID=Australia/Sydney:20241001T100000
DTEND;TZID=Australia/Sydney:20241001T103000
DTSTAMP:20260422T173146
CREATED:20240918T232716Z
LAST-MODIFIED:20240923T104716Z
UID:10001186-1727776800-1727778600@iamheretribe.com
SUMMARY:AUS/NZ - Orange October - The Grit Factor: Build Grit One Breath at a Time!
DESCRIPTION:We are thrilled to invite you to the first webinar for Orange October 2024. We will explore the powerful connection between Grit and Breath\, and how mastering your breath can help you build inner strength and focus. \nLed by Johannes Egberts who is an expert in breathwork\, this fun and engaging session will show you how something as simple as breathing can become a game-changer in developing grit\, managing stress\, navigating daily challenges with greater strength and connecting mindfully to oneself. \nWhat You Will Discover: \n\nThe science behind breath and how it boosts connection to self.\nPractical breathing techniques to help you cultivate grit.\nA powerful strategy to start your day strong\, every day!\n\nDon’t miss out on this exciting opportunity to acquire tools you can apply immediately to improve your performance and mental health and wellbeing. \nPrepare to breathe your way to Grit! \nWe can’t wait to see you there!
URL:https://iamheretribe.com/event/orange-october-the-grit-factor-build-grit-one-breath-at-a-time/
LOCATION:Virtual Class: AEST
CATEGORIES:Upcoming Events
ATTACH;FMTTYPE=image/png:https://iamheretribe.com/wp-content/uploads/2024/09/event_banner.png
END:VEVENT
BEGIN:VEVENT
DTSTART;TZID=Australia/Sydney:20240910T100000
DTEND;TZID=Australia/Sydney:20240910T110000
DTSTAMP:20260422T173146
CREATED:20240712T112150Z
LAST-MODIFIED:20240827T093331Z
UID:10001180-1725962400-1725966000@iamheretribe.com
SUMMARY:I Am Here Connect Series Webinar - Breaking the Silence: Compassionate Conversations about Suicide.
DESCRIPTION:Overview: In a world where mental health challenges are on the rise\, having the courage\, confidence and skills to engage in a conversation about suicide can save lives. During this webinar\, Jim and the guests will discuss ways to approach this sensitive topic with empathy\, courage\, and confidence. \nKey topics:  \n\nUnderstand why addressing suicide openly and compassionately is crucial for prevention and stigma reduction\nRecognise warning signs and risk factors for suicidal thoughts and behaviours\nPractice strategies for initiating and navigating difficult conversations\nEngage with others who are committed to creating a culture of support and mental wellbeing\n\nRegistration\nJoin us in breaking the silence and building a compassionate community. Register today to secure your spot and make a difference in the lives of those around you. \nGuest Speakers: \nDr. Natalie Flatt\, Ph.D.\nNatalie is a Victorian Committee member for Suicide Prevention Australia and a member of the judging panel for the National Safety Awards of Excellence. \nAisling Smith Vance\nOver 10 years of Personal and Professional Development in Neuro and Psychological coaching procedures\, Mindset Training\, Hypnosis\, Business Strategy and Business Coaching and Consultancy. \nWhat to expect:\nLive Q&A with experts in a safe and supportive environment.\nGain actionable advice and techniques for recognising and responding to signs of suicide.\nTakeaway resource with contacts for continued support.
URL:https://iamheretribe.com/event/breaking-the-silence-compassionate-conversations-about-suicide/
LOCATION:Virtual Class: AEST
CATEGORIES:Upcoming Events
ATTACH;FMTTYPE=image/webp:https://iamheretribe.com/wp-content/uploads/2024/07/header_image_ANZ-1.webp
END:VEVENT
BEGIN:VEVENT
DTSTART;TZID=Australia/Sydney:20240625T150000
DTEND;TZID=Australia/Sydney:20240625T160000
DTSTAMP:20260422T173146
CREATED:20240522T101007Z
LAST-MODIFIED:20240605T093157Z
UID:10001176-1719327600-1719331200@iamheretribe.com
SUMMARY:AUS/NZ - I Am Here: Ambassador Check-In: Courageous Conversations
DESCRIPTION:Please join us for a check-in so you can meet other Ambassadors and continue to build your courage\, confidence\, and skills as an Ambassador. \nDuring this virtual event\, we will discuss the importance of feeling ok before we can help others and steps to support you in having a courageous conversation. \nWe will also look at ways to manage the common challenges we may face as Ambassadors\, such as: \n\nHow do I approach someone who puts on a brave face?\nHow do I support a team member with pre-diagnosed mental ill health?\nHow do I support a colleague without breaking confidentiality?\n\nLet’s continue changing the world\, one compassionate connection at a time! \nAs Ambassadors\, we are not expected to be counsellors or psychologists or to have medical training. We are the signpost that points the way to better mental health and wellbeing for everyone.
URL:https://iamheretribe.com/event/aus-nz-i-am-here-ambassador-check-in-courageous-conversations/
LOCATION:Virtual Class: AEST
CATEGORIES:Upcoming Events
ATTACH;FMTTYPE=image/jpeg:https://iamheretribe.com/wp-content/uploads/2024/05/I-Am-Here-checkin.jpg
END:VEVENT
BEGIN:VEVENT
DTSTART;TZID=Australia/Sydney:20240507T130000
DTEND;TZID=Australia/Sydney:20240507T140000
DTSTAMP:20260422T173146
CREATED:20240407T095546Z
LAST-MODIFIED:20240423T085635Z
UID:10001172-1715086800-1715090400@iamheretribe.com
SUMMARY:I Am Here Connect Series Webinar - Wellbeing\, What’s Yours?
DESCRIPTION:Overview:\nIn our fast-moving world\, stress levels are high and wellbeing is a hot topic. What does being well mean for you? Join the I Am Here transformational webinar: Wellbeing\, What’s Yours? \nDuring this webinar\, Jim will guide you on how to understand\, manage and thrive within your own wellbeing. \nWhat You’ll Discover:  \n\nSelf Check: Practice the I Am Here Self Check.\nThe Six Pillars of Wellbeing: Evaluate yourself emotionally\, physically\, spiritually\, socially\, financially and in terms of your work and career. Rate yourself and uncover areas where you may be lacking focus or support and where you are doing great!\nSetting Realistic Goals: Whatever your rating\, learn how to set achievable improvement or maintenance goals. Discover actions that can nudge improvements in your wellbeing.\nFlip the Script: We tend to focus on the cracks. Can we shift our focus to magnify the best parts of us?\nSlowing Down to Flow Better: This world is fast\, sometimes we feel that if we don’t move fast\, we will get left behind. We can forget what is important under the pressures of life. Discover your blind spots\, step out of your own tunnel and find your perspective and your perception.\nCommunity Support: Join our email community at Wellbeing@IAmHereTribe.com. Receive worksheets to help you guide your own wellbeing journey.\n\nWhy Attend:  \n\nPractical Strategies: Walk away with tangible strategies to be truly well in your being.\nCommunity Engagement: Connect with a supportive community that shares your goals. Receive guidance\, support and insights tailored to your personal journey.
URL:https://iamheretribe.com/event/i-am-here-connect-series-webinar-wellbeing-whats-yours/
LOCATION:Virtual Class: AEST
CATEGORIES:Upcoming Events
ATTACH;FMTTYPE=image/webp:https://iamheretribe.com/wp-content/uploads/2024/04/Wellbeing_whats_yours_poster_anz_AEST.webp
END:VEVENT
END:VCALENDAR